Workbook

Sheet Belegtabschnitte LINKS
A1: Rückmelderbelegung : Zuordnung der Anschlüsse zu den Gleisabschnitten der Anlage und Blöcken bzw. Weichen in TC
A2: LDT HSI-88 - linker Bus | F2: Gleisabschnitts-länge lt. WINTRACK | G2: Abzüge in mm für | J2: MELDER-LÄNGE | K2: Max Zugslänge | L2: Bremsmarkierung | O2: Haltemarkierung im HAM | P2: Haltepunkt | Q2: rechner. Kriechstrecke
A3: RM | B3: Anschluss | C3: Nummer für TC | E3: Gleisabschnitt | F3: Länge in mm | G3: Einfahrt | H3: Länge Haltemelder | I3: Ausfahrt | L3: Distanz | M3: Rampe | N3: Kriech-geschw. | O3: Distanz
A4: 1 | B4: 1 | C4: 1 | D4: 1 | E4: SBHF 3 Gleis 1 | F4: 4737 | G4: 75 | H4: 165 | I4: 75 | J4: =F4-(G4+H4+I4) -> 4422 | K4: =ROUNDDOWN(J4,-1) -> 4420 | L4: 2780 | M4: 1800 | N4: =L4+M4 -> 4580 | O4: 0 | P4: =J4+H4+O4 -> 4587 | Q4: =P4-N4 -> 7
B5: =B4+1 -> 2 | D5: =D4+1 -> 2 | E5: SBHF 3 Gleis 2 | F5: 4585 | G5: 75 | H5: 165 | I5: 75 | J5: =F5-(G5+H5+I5) -> 4270 | K5: =ROUNDDOWN(J5,-1) -> 4270 | L5: 2600 | M5: 1800 | N5: =L5+M5 -> 4400 | O5: 0 | P5: =J5+H5+O5 -> 4435 | Q5: =P5-N5 -> 35
B6: =B5+1 -> 3 | D6: =D5+1 -> 3 | E6: SBHF 3 Gleis 3 | F6: 4001 | G6: 75 | H6: 165 | I6: 75 | J6: =F6-(G6+H6+I6) -> 3686 | K6: =ROUNDDOWN(J6,-1) -> 3680 | L6: 2050 | M6: 1800 | N6: =L6+M6 -> 3850 | O6: 0 | P6: =J6+H6+O6 -> 3851 | Q6: =P6-N6 -> 1
B7: =B6+1 -> 4 | D7: =D6+1 -> 4 | E7: SBHF 3 Gleis 4 | F7: 4100 | G7: 75 | H7: 165 | I7: 75 | J7: =F7-(G7+H7+I7) -> 3785 | K7: =ROUNDDOWN(J7,-1) -> 3780 | L7: 2150 | M7: 1800 | N7: =L7+M7 -> 3950 | O7: 0 | P7: =J7+H7+O7 -> 3950 | Q7: =P7-N7 -> 0
B8: =B7+1 -> 5 | D8: =D7+1 -> 5 | E8: SBHF 3 Gleis 5 | F8: 4434 | G8: 75 | H8: 165 | I8: 75 | J8: =F8-(G8+H8+I8) -> 4119 | K8: =ROUNDDOWN(J8,-1) -> 4110 | L8: 2450 | M8: 1800 | N8: =L8+M8 -> 4250 | O8: 0 | P8: =J8+H8+O8 -> 4284 | Q8: =P8-N8 -> 34
B9: =B8+1 -> 6 | D9: =D8+1 -> 6 | E9: SBHF 3 Gleis 6 | F9: 3780 | G9: 75 | H9: 165 | I9: 75 | J9: =F9-(G9+H9+I9) -> 3465 | K9: =ROUNDDOWN(J9,-1) -> 3460 | L9: 1800 | M9: 1800 | N9: =L9+M9 -> 3600 | O9: 0 | P9: =J9+H9+O9 -> 3630 | Q9: =P9-N9 -> 30
B10: =B9+1 -> 7 | D10: =D9+1 -> 7 | E10: SBHF 3 Gleis 7 | F10: 3650 | G10: 75 | H10: 165 | I10: 75 | J10: =F10-(G10+H10+I10) -> 3335 | K10: =ROUNDDOWN(J10,-1) -> 3330 | L10: 1700 | M10: 1800 | N10: =L10+M10 -> 3500 | O10: 0 | P10: =J10+H10+O10 -> 3500 | Q10: =P10-N10 -> 0
B11: =B10+1 -> 8 | D11: =D10+1 -> 8 | E11: SBHF 3 Gleis 8 | F11: 3336 | G11: 75 | H11: 165 | I11: 75 | J11: =F11-(G11+H11+I11) -> 3021 | K11: =ROUNDDOWN(J11,-1) -> 3020 | L11: 1350 | M11: 1800 | N11: =L11+M11 -> 3150 | O11: 0 | P11: =J11+H11+O11 -> 3186 | Q11: =P11-N11 -> 36
A12: 2 | B12: 1 | D12: =D11+1 -> 9 | E12: SBHF 2 Gleis 1 Sicherheitsmelder
B13: =B12+1 -> 2 | D13: =D12+1 -> 10 | E13: SBHF 2 Gleis 2 Sicherheitsmelder
B14: =B13+1 -> 3 | D14: =D13+1 -> 11 | E14: SBHF 2 Gleis 3 Sicherheitsmelder
B15: =B14+1 -> 4 | D15: =D14+1 -> 12 | E15: SBHF 2 Gleis 4 Sicherheitsmelder
B16: =B15+1 -> 5 | D16: =D15+1 -> 13 | E16: nicht belegt - Messtrecke
B17: =B16+1 -> 6 | D17: =D16+1 -> 14 | E17: SBHF 2 Gleis 6 Sicherheitsmelder
B18: =B17+1 -> 7 | D18: =D17+1 -> 15 | E18: SBHF 2 Gleis 7 Sicherheitsmelder
B19: =B18+1 -> 8 | D19: =D18+1 -> 16 | E19: SBHF 2 Gleis 8 Sicherheitsmelder
A20: 3 | B20: 1 | C20: 2 | D20: 1 | E20: SBHF 3 Gleis 9 | F20: 3215 | G20: 75 | H20: 165 | I20: 75 | J20: =F20-(G20+H20+I20) -> 2900 | K20: =ROUNDDOWN(J20,-1) -> 2900 | L20: 1250 | M20: 1800 | N20: =L20+M20 -> 3050 | O20: 0 | P20: =J20+H20+O20 -> 3065 | Q20: =P20-N20 -> 15
B21: =B20+1 -> 2 | D21: =D20+1 -> 2 | E21: SBHF 3 Gleis 10 Durchfahrtsgleis | F21: 3561 | G21: 75 | H21: 165 | I21: 75 | J21: =F21-(G21+H21+I21) -> 3246 | K21: =ROUNDDOWN(J21,-1) -> 3240 | L21: 1600 | M21: 1800 | N21: =L21+M21 -> 3400 | O21: 0 | P21: =J21+H21+O21 -> 3411 | Q21: =P21-N21 -> 11
B22: =B21+1 -> 3 | D22: =D21+1 -> 3 | E22: Weichen SBF2 zu SBF3
B23: =B22+1 -> 4 | D23: =D22+1 -> 4 | E23: Weichen SBF2 zu SBF3
B24: =B23+1 -> 5 | D24: =D23+1 -> 5 | E24: Weichen SBF2 zu SBF3
B25: =B24+1 -> 6 | D25: =D24+1 -> 6 | E25: Weichen SBF2 zu SBF3
B26: =B25+1 -> 7 | D26: =D25+1 -> 7 | E26: SBHF 2 Gleis 1 | F26: 2321 | G26: 75 | H26: 165 | I26: 75 | J26: =F26-(G26+H26+I26) -> 2006 | K26: =ROUNDDOWN(J26,-1) -> 2000 | N26: =L26+M26 -> 0 | P26: =J26+H26+O26 -> 2171
B27: =B26+1 -> 8 | D27: =D26+1 -> 8 | E27: SBHF 2 Gleis 2 | F27: 2300 | G27: 75 | H27: 165 | I27: 75 | J27: =F27-(G27+H27+I27) -> 1985 | K27: =ROUNDDOWN(J27,-1) -> 1980 | N27: =L27+M27 -> 0 | P27: =J27+H27+O27 -> 2150
A28: 4 | B28: 1 | D28: =D27+1 -> 9 | E28: SBHF 2 Gleis 3 | F28: 2760 | G28: 75 | H28: 165 | I28: 75 | J28: =F28-(G28+H28+I28) -> 2445 | K28: =ROUNDDOWN(J28,-1) -> 2440 | N28: =L28+M28 -> 0 | P28: =J28+H28+O28 -> 2610
B29: =B28+1 -> 2 | D29: =D28+1 -> 10 | E29: SBHF 2 Gleis 4 | F29: 3220 | G29: 75 | H29: 165 | I29: 75 | J29: =F29-(G29+H29+I29) -> 2905 | K29: =ROUNDDOWN(J29,-1) -> 2900 | N29: =L29+M29 -> 0 | P29: =J29+H29+O29 -> 3070
B30: =B29+1 -> 3 | D30: =D29+1 -> 11 | E30: SBHF 2 Gleis 5 Messtrecke | F30: 1600 | G30: 0 | H30: 0 | I30: 75 | J30: =F30-(G30+H30+I30) -> 1525 | K30: =ROUNDDOWN(J30,-1) -> 1520 | N30: =L30+M30 -> 0 | P30: =J30+H30+O30 -> 1525
B31: =B30+1 -> 4 | D31: =D30+1 -> 12 | E31: SBHF 2 Gleis 5 Durchfahrtsgleis | F31: =3220-1600 -> 1620 | G31: 75 | H31: 0 | I31: 0 | J31: =F31-(G31+H31+I31) -> 1545 | K31: =ROUNDDOWN(J31,-1) -> 1540 | N31: =L31+M31 -> 0 | P31: =J31+H31+O31 -> 1545
B32: =B31+1 -> 5 | D32: =D31+1 -> 13 | E32: SBHF 2 Gleis 6 | F32: 3680 | G32: 75 | H32: 165 | I32: 75 | J32: =F32-(G32+H32+I32) -> 3365 | K32: =ROUNDDOWN(J32,-1) -> 3360 | N32: =L32+M32 -> 0 | P32: =J32+H32+O32 -> 3530
B33: =B32+1 -> 6 | D33: =D32+1 -> 14 | E33: SBHF 2 Gleis 7 | F33: 3810 | G33: 75 | H33: 165 | I33: 75 | J33: =F33-(G33+H33+I33) -> 3495 | K33: =ROUNDDOWN(J33,-1) -> 3490 | N33: =L33+M33 -> 0 | P33: =J33+H33+O33 -> 3660
B34: =B33+1 -> 7 | D34: =D33+1 -> 15 | E34: SBHF 2 Gleis 8 | F34: 3931 | G34: 75 | H34: 165 | I34: 75 | J34: =F34-(G34+H34+I34) -> 3616 | K34: =ROUNDDOWN(J34,-1) -> 3610 | N34: =L34+M34 -> 0 | P34: =J34+H34+O34 -> 3781
B35: =B34+1 -> 8 | D35: =D34+1 -> 16 | E35: Weichen SBF1 zu SBF2
A36: 5 | B36: 1 | C36: 3 | D36: 1 | E36: Weichen SBF1 zu SBF2
B37: =B36+1 -> 2 | D37: =D36+1 -> 2 | E37: Weichen SBF1 zu SBF2
B38: =B37+1 -> 3 | D38: =D37+1 -> 3 | E38: SBF 1 Gleis 6 SIM
B39: =B38+1 -> 4 | D39: =D38+1 -> 4 | E39: SBF 1 Gleis 5 SIM
B40: =B39+1 -> 5 | D40: =D39+1 -> 5 | E40: SBF 1 Gleis 4 SIM
B41: =B40+1 -> 6 | D41: =D40+1 -> 6 | E41: SBF 1 Gleis 3 SIM
B42: =B41+1 -> 7 | D42: =D41+1 -> 7 | E42: SBF 1 Gleis 2 SIM
B43: =B42+1 -> 8 | D43: =D42+1 -> 8 | E43: SBF 1 Gleis 1 SIM
A44: 6 | B44: 1 | D44: =D43+1 -> 9 | E44: SBF1 Gleis 1 | F44: 1082 | G44: 75 | H44: 165 | I44: 75 | J44: =F44-(G44+H44+I44) -> 767 | K44: =ROUNDDOWN(J44,-1) -> 760 | N44: =L44+M44 -> 0 | P44: =J44+H44+O44 -> 932
B45: =B44+1 -> 2 | D45: =D44+1 -> 10 | E45: SBF1 Gleis 2 | F45: 1100 | G45: 75 | H45: 165 | I45: 75 | J45: =F45-(G45+H45+I45) -> 785 | K45: =ROUNDDOWN(J45,-1) -> 780 | N45: =L45+M45 -> 0 | P45: =J45+H45+O45 -> 950
B46: =B45+1 -> 3 | D46: =D45+1 -> 11 | E46: SBF1 Gleis 3 | F46: 1581 | G46: 75 | H46: 165 | I46: 75 | J46: =F46-(G46+H46+I46) -> 1266 | K46: =ROUNDDOWN(J46,-1) -> 1260 | N46: =L46+M46 -> 0 | P46: =J46+H46+O46 -> 1431
B47: =B46+1 -> 4 | D47: =D46+1 -> 12 | E47: SBF1 Gleis 4 | F47: 1853 | G47: 75 | H47: 165 | I47: 75 | J47: =F47-(G47+H47+I47) -> 1538 | K47: =ROUNDDOWN(J47,-1) -> 1530 | N47: =L47+M47 -> 0 | P47: =J47+H47+O47 -> 1703
B48: =B47+1 -> 5 | D48: =D47+1 -> 13 | E48: SBF1 Gleis 5 Durchfahrt | F48: 1896 | G48: 75 | H48: 165 | I48: 75 | J48: =F48-(G48+H48+I48) -> 1581 | K48: =ROUNDDOWN(J48,-1) -> 1580 | L48: 650 | M48: 900 | N48: =L48+M48 -> 1550 | O48: 0 | P48: =J48+H48+O48 -> 1746
B49: =B48+1 -> 6 | D49: =D48+1 -> 14 | E49: SBF1 Gleis 6 | F49: 2867 | G49: 75 | H49: 165 | I49: 75 | J49: =F49-(G49+H49+I49) -> 2552 | K49: =ROUNDDOWN(J49,-1) -> 2550 | N49: =L49+M49 -> 0 | P49: =J49+H49+O49 -> 2717
B50: =B49+1 -> 7 | D50: =D49+1 -> 15 | E50: Weichenfeld EINFAHRT SBF 1
B51: =B50+1 -> 8 | D51: =D50+1 -> 16 | E51: Weichenfeld AUSFAHRT SBF 3
A52: 7 | B52: 1 | C52: 4 | D52: 1 | E52: SBHF 3 Gleis 3 Haltemelder
B53: =B52+1 -> 2 | D53: =D52+1 -> 2 | E53: SBHF 3 Gleis 4 Haltemelder
B54: =B53+1 -> 3 | D54: =D53+1 -> 3 | E54: SBHF 3 Gleis 5 Haltemelder
B55: =B54+1 -> 4 | D55: =D54+1 -> 4 | E55: SBHF 3 Gleis 6 Haltemelder
B56: =B55+1 -> 5 | D56: =D55+1 -> 5 | E56: SBHF 3 Gleis 7 Haltemelder
B57: =B56+1 -> 6 | D57: =D56+1 -> 6 | E57: SBHF 3 Gleis 8 Haltemelder
B58: =B57+1 -> 7 | D58: =D57+1 -> 7 | E58: SBHF 3 Gleis 9 Haltemelder
B59: =B58+1 -> 8 | D59: =D58+1 -> 8 | E59: SBHF 3 Gleis 10 Haltemelder
A60: 8 | B60: 1 | D60: =D59+1 -> 9 | E60: SBHF 3 Gleis 1 Haltemelder
B61: =B60+1 -> 2 | D61: =D60+1 -> 10 | E61: SBHF 3 Gleis 2 Haltemelder
B62: =B61+1 -> 3 | D62: =D61+1 -> 11 | E62: Rampe unten Abfahrt | F62: 4150 | G62: 0 | H62: 0 | I62: 0 | J62: =F62-(G62+H62+I62) -> 4150 | K62: =ROUNDDOWN(J62,-1) -> 4150
B63: =B62+1 -> 4 | D63: =D62+1 -> 12 | E63: Rampe unten Auffahrt | F63: 4150 | G63: 0 | H63: 0 | I63: 0 | J63: =F63-(G63+H63+I63) -> 4150 | K63: =ROUNDDOWN(J63,-1) -> 4150
B64: =B63+1 -> 5 | D64: =D63+1 -> 13 | E64: Rampe Mitte Abfahrt | F64: 4800 | G64: 0 | H64: 0 | I64: 0 | J64: =F64-(G64+H64+I64) -> 4800 | K64: =ROUNDDOWN(J64,-1) -> 4800
B65: =B64+1 -> 6 | D65: =D64+1 -> 14 | E65: Rampe Mitte Auffahrt | F65: 4900 | G65: 0 | H65: 0 | I65: 0 | J65: =F65-(G65+H65+I65) -> 4900 | K65: =ROUNDDOWN(J65,-1) -> 4900
B66: =B65+1 -> 7 | D66: =D65+1 -> 15 | E66: Rampe Oben Abfahrt | F66: 4200 | G66: 75 | H66: 0 | I66: 0 | J66: =F66-(G66+H66+I66) -> 4125 | K66: =ROUNDDOWN(J66,-1) -> 4120
B67: =B66+1 -> 8 | D67: =D66+1 -> 16 | E67: Rampe Oben Auffahrt | F67: 4300 | G67: 0 | H67: 0 | I67: 75 | J67: =F67-(G67+H67+I67) -> 4225 | K67: =ROUNDDOWN(J67,-1) -> 4220

Sheet Belegtabschnitte MITTE
A1: Rückmelderbelegung : Zuordnung der Anschlüsse zu den Gleisabschnitten der Anlage und Blöcken bzw. Weichen in TC | J1: Genereller Abstand Haltepunkt vor Blockende | L1: 15
A2: LDT HSI-88 - mittlerer Bus | F2: Länge | G2: Bremsmarkierung alle Werte in CM | J2: Belegtabschnitt HAM links | K2: Länge HAM 1 | L2: Haltemarkierung im HAM 1 | M2: Belegtabschnitt HAM re | N2: Länge HAM 2 | O2: Haltemarkierung im HAM 2 | P2: Haltepunkt | Q2: BLOCKLÄNGE | R2: Max Zugslänge
A3: RM | B3: Anschluss | C3: Nummer für TC | E3: Gleisabschnitt | G3: Distanz | H3: Rampe | I3: Kriech-geschw. | L3: Distanz
A4: 1 | B4: 1 | C4: 1 | D4: 1 | E4: Kehre Rampe / Hochstr aussen | F4: 350 | G4: =P4-H4-5 -> 240 | H4: 90 | I4: =G4+H4 -> 330 | O4: =N4-$L$1 -> -15 | P4: =K4+F4+O4 -> 335 | Q4: =F4+K4+N4 -> 350 | R4: =ROUNDDOWN(F4+K4+O4,-1) -> 330
B5: =B4+1 -> 2 | D5: =D4+1 -> 2 | E5: Kehre Rampe / Hochstr innn | F5: =335-22.5 -> 312.5 | G5: =P5-H5-5 -> 224.5 | H5: 90 | I5: =G5+H5 -> 314.5 | M5: ='Belegtabschnitte RECHTS'!E17 -> HAM Hochstrecke vor Kopfbhf | N5: ='Belegtabschnitte RECHTS'!F17 -> 22 | O5: =N5-$L$1 -> 7 | P5: =K5+F5+O5 -> 319.5 | Q5: =F5+K5+N5 -> 334.5 | R5: =ROUNDDOWN(F5+K5+O5,-1) -> 310
B6: =B5+1 -> 3 | D6: =D5+1 -> 3 | E6: Weichen Abfahrt Rampe SB
B7: =B6+1 -> 4 | D7: =D6+1 -> 4 | E7: Weiche Auffahrt Rampe SB
B8: =B7+1 -> 5 | D8: =D7+1 -> 5 | E8: SIM Abfahrt Rampe SB
B9: =B8+1 -> 6 | D9: =D8+1 -> 6 | E9: SIM Zufahrt HBHF
B10: =B9+1 -> 7 | D10: =D9+1 -> 7 | E10: HAM Hauptstrecke
B11: =B10+1 -> 8 | D11: =D10+1 -> 8 | E11: HAM Auffahrt von SBHF
A12: 2 | B12: 1 | D12: =D11+1 -> 9 | E12: Zufahrt HBHF links | F12: 235 | G12: =P12-H12-5 -> 125 | H12: 90 | I12: =G12+H12 -> 215 | N12: 0 | O12: =N12-$L$1 -> -15 | P12: =K12+F12+O12 -> 220 | Q12: =F12+K12+N12 -> 235 | R12: =ROUNDDOWN(F12+K12+O12,-1) -> 220
B13: =B12+1 -> 2 | D13: =D12+1 -> 10 | E13: Zufahrt HBHF rechts | F13: 230 | G13: =P13-H13-5 -> 120 | H13: 90 | I13: =G13+H13 -> 210 | N13: 0 | O13: =N13-$L$1 -> -15 | P13: =K13+F13+O13 -> 215 | Q13: =F13+K13+N13 -> 230 | R13: =ROUNDDOWN(F13+K13+O13,-1) -> 210
B14: =B13+1 -> 3 | D14: =D13+1 -> 11 | E14: Zufahrt HBHF Weichen links
B15: =B14+1 -> 4 | D15: =D14+1 -> 12 | E15: Zufahrt HBHF Weichen rechts
B16: =B15+1 -> 5 | D16: =D15+1 -> 13 | E16: EKW HBHF Zufahrt Ebene 2
B17: =B16+1 -> 6 | D17: =D16+1 -> 14 | E17: SIM HBHF Ebene 3
B18: =B17+1 -> 7 | D18: =D17+1 -> 15 | E18: SIM HBHF Gleis 5
B19: =B18+1 -> 8 | D19: =D18+1 -> 16 | E19: SIM HBHF Gleis 6
A20: 3 | B20: 1 | C20: 2 | D20: 1 | E20: DKW HBHF Zufahrt Ebene 4
B21: =B20+1 -> 2 | D21: =D20+1 -> 2 | E21: HAM HBHF Zufahrt Gleis 5 | F21: 39
B22: =B21+1 -> 3 | D22: =D21+1 -> 3 | E22: SIM HBHF Gleis 7
B23: =B22+1 -> 4 | D23: =D22+1 -> 4 | E23: SIM HBHF Gleis 8
B24: =B23+1 -> 5 | D24: =D23+1 -> 5 | E24: DKW HBHF Zufahrt Ebene 5
B25: =B24+1 -> 6 | D25: =D24+1 -> 6 | E25: SIM HBHF Gleis 4
B26: =B25+1 -> 7 | D26: =D25+1 -> 7 | E26: SIM HBHF Gleis 1
B27: =B26+1 -> 8 | D27: =D26+1 -> 8 | E27: WL HBHF Zufahrt Ebene 6
A28: 4 | B28: 1 | D28: =D27+1 -> 9 | E28: SIM HBHF Gleis 4
B29: =B28+1 -> 2 | D29: =D28+1 -> 10 | E29: HAM HBHF Zufahrt Gleis 4 | F29: 23.5
B30: =B29+1 -> 3 | D30: =D29+1 -> 11 | E30: HAM HBHF Zufahrt Gleis 1 | F30: 23
B31: =B30+1 -> 4 | D31: =D30+1 -> 12 | E31: HAM HBHF Zufahrt Gleis 2 | F31: 23
B32: =B31+1 -> 5 | D32: =D31+1 -> 13 | E32: HAM HBHF Zufahrt Gleis 3 | F32: 21.5
B33: =B32+1 -> 6 | D33: =D32+1 -> 14 | E33: HBHF Gleis 1 | F33: 129 | G33: =P33-H33-5 -> 65 | H33: 90 | I33: =G33+H33 -> 155 | J33: =E30 -> HAM HBHF Zufahrt Gleis 1 | K33: =F30 -> 23 | L33: =K33-$L$1 -> 8 | M33: =E41 -> HAM HBHF Gleis 1 | N33: =F41 -> 23 | O33: =N33-$L$1 -> 8 | P33: =K33+F33+O33 -> 160 | Q33: =F33+K33+N33 -> 175 | R33: =ROUNDDOWN(F33+K33+O33,-1) -> 160
B34: =B33+1 -> 7 | D34: =D33+1 -> 15 | E34: HBHF Gleis 2 | F34: 127 | G34: =P34-H34-5 -> 56.5 | H34: 90 | I34: =G34+H34 -> 146.5 | J34: =E31 -> HAM HBHF Zufahrt Gleis 2 | K34: =F31 -> 23 | L34: =K34-$L$1 -> 8 | M34: =E42 -> HAM HBHF Gleis 2 | N34: =F42 -> 16.5 | O34: =N34-$L$1 -> 1.5 | P34: =K34+F34+O34 -> 151.5 | Q34: =F34+K34+N34 -> 166.5 | R34: =ROUNDDOWN(F34+K34+O34,-1) -> 150
B35: =B34+1 -> 8 | D35: =D34+1 -> 16 | E35: HBHF Gleis 3 | F35: 164 | G35: =P35-H35-5 -> 100 | H35: 90 | I35: =G35+H35 -> 190 | J35: =E32 -> HAM HBHF Zufahrt Gleis 3 | K35: =F32 -> 21.5 | L35: =K35-$L$1 -> 6.5 | M35: =E49 -> HAM HBHF Gleis 3 | N35: =F49 -> 24.5 | O35: =N35-$L$1 -> 9.5 | P35: =K35+F35+O35 -> 195 | Q35: =F35+K35+N35 -> 210 | R35: =ROUNDDOWN(F35+K35+O35,-1) -> 190
A36: 5 | B36: 1 | C36: 3 | D36: 1 | E36: HBHF Gleis 4 | F36: 225 | G36: =P36-H36-5 -> 163.5 | H36: 90 | I36: =G36+H36 -> 253.5 | J36: =E29 -> HAM HBHF Zufahrt Gleis 4 | K36: =F29 -> 23.5 | L36: =K36-$L$1 -> 8.5 | M36: =E54 -> HAM HBHF Ausfahrt Gleis 4 | N36: =F54 -> 25 | O36: =N36-$L$1 -> 10 | P36: =K36+F36+O36 -> 258.5 | Q36: =F36+K36+N36 -> 273.5 | R36: =ROUNDDOWN(F36+K36+O36,-1) -> 250
B37: =B36+1 -> 2 | D37: =D36+1 -> 2 | E37: HBHF Gleis 5 | F37: =289-39 -> 250 | G37: =P37-H37-5 -> 211.5 | H37: 90 | I37: =G37+H37 -> 301.5 | J37: =E21 -> HAM HBHF Zufahrt Gleis 5 | K37: =F21 -> 39 | L37: =K37-$L$1 -> 24 | M37: =E58 -> HAM HBHF Ausfahrt Gleis 5 | N37: =F58 -> 32.5 | O37: =N37-$L$1 -> 17.5 | P37: =K37+F37+O37 -> 306.5 | Q37: =F37+K37+N37 -> 321.5 | R37: =ROUNDDOWN(F37+K37+O37,-1) -> 300
B38: =B37+1 -> 3 | D38: =D37+1 -> 3 | E38: HBHF Gleis 6 | F38: 322 | G38: =P38-H38-5 -> 245.5 | H38: 90 | I38: =G38+H38 -> 335.5 | L38: =K38-$L$1 -> -15 | M38: =E60 -> HAM HBHF Ausfahrt Gleis 6 | N38: =F60 -> 33.5 | O38: =N38-$L$1 -> 18.5 | P38: =K38+F38+O38 -> 340.5 | Q38: =F38+K38+N38 -> 355.5 | R38: =ROUNDDOWN(F38+K38+O38,-1) -> 340
B39: =B38+1 -> 4 | D39: =D38+1 -> 4 | E39: HBHF Gleis 7 | F39: 276 | G39: =P39-H39-5 -> 186.5 | H39: 90 | I39: =G39+H39 -> 276.5 | L39: =K39-$L$1 -> -15 | M39: =E61 -> HAM HBHF Ausfahrt Gleis 7 | N39: =F61 -> 20.5 | O39: =N39-$L$1 -> 5.5 | P39: =K39+F39+O39 -> 281.5 | Q39: =F39+K39+N39 -> 296.5 | R39: =ROUNDDOWN(F39+K39+O39,-1) -> 280
B40: =B39+1 -> 5 | D40: =D39+1 -> 5 | E40: HBHF Gleis 8 | F40: 235 | G40: =P40-H40-5 -> 145.5 | H40: 90 | I40: =G40+H40 -> 235.5 | L40: =K40-$L$1 -> -15 | M40: =E62 -> HAM HBHF Ausfahrt Gleis 8 | N40: =F62 -> 20.5 | O40: =N40-$L$1 -> 5.5 | P40: =K40+F40+O40 -> 240.5 | Q40: =F40+K40+N40 -> 255.5 | R40: =ROUNDDOWN(F40+K40+O40,-1) -> 240
B41: =B40+1 -> 6 | D41: =D40+1 -> 6 | E41: HAM HBHF Gleis 1 | F41: 23
B42: =B41+1 -> 7 | D42: =D41+1 -> 7 | E42: HAM HBHF Gleis 2 | F42: 16.5
B43: =B42+1 -> 8 | D43: =D42+1 -> 8 | E43: Weichenfeld HBHF Gl 1 / 1a
A44: 6 | B44: 1 | D44: =D43+1 -> 9 | E44: Kreuzung Gleis 1a / 2a
B45: =B44+1 -> 2 | D45: =D44+1 -> 10 | E45: Weiche Gleis 2 / Kreuzung
B46: =B45+1 -> 3 | D46: =D45+1 -> 11 | E46: Weiche HBH Kreuzung Gl 2a
B47: =B46+1 -> 4 | D47: =D46+1 -> 12 | E47: SIM Gleis 1a | F47: 15
B48: =B47+1 -> 5 | D48: =D47+1 -> 13 | E48: SIM Gleis 2a | F48: 15
B49: =B48+1 -> 6 | D49: =D48+1 -> 14 | E49: HAM HBHF Gleis 3 | F49: 24.5
B50: =B49+1 -> 7 | D50: =D49+1 -> 15 | E50: SIM HBHF Gleis 2
B51: =B50+1 -> 8 | D51: =D50+1 -> 16 | E51: SIM HBHF Gleis 3
A52: 7 | B52: 1 | C52: 4 | D52: 1 | E52: SIM HBHF Gleis 1
B53: =B52+1 -> 2 | D53: =D52+1 -> 2 | E53: DKW HBHF Ausfahrt Ebene 4 Gl2/Gl3
B54: =B53+1 -> 3 | D54: =D53+1 -> 3 | E54: HAM HBHF Ausfahrt Gleis 4 | F54: 25
B55: =B54+1 -> 4 | D55: =D54+1 -> 4 | E55: SIM HBHF Gleis 4
B56: =B55+1 -> 5 | D56: =D55+1 -> 5 | E56: HBHF Ausfahrt Weichen Gl 3-5
B57: =B56+1 -> 6 | D57: =D56+1 -> 6 | E57: DKW HBHF Ausfahrt Ebene 5 Gl3/Gl4
B58: =B57+1 -> 7 | D58: =D57+1 -> 7 | E58: HAM HBHF Ausfahrt Gleis 5 | F58: 32.5
B59: =B58+1 -> 8 | D59: =D58+1 -> 8 | E59: SIM HBHF Gleis 5
A60: 8 | B60: 1 | D60: =D59+1 -> 9 | E60: HAM HBHF Ausfahrt Gleis 6 | F60: 33.5
B61: =B60+1 -> 2 | D61: =D60+1 -> 10 | E61: HAM HBHF Ausfahrt Gleis 7 | F61: 20.5
B62: =B61+1 -> 3 | D62: =D61+1 -> 11 | E62: HAM HBHF Ausfahrt Gleis 8 | F62: 20.5
B63: =B62+1 -> 4 | D63: =D62+1 -> 12 | E63: HBHF Ausfahrt Weichen Gl 2-8
B64: =B63+1 -> 5 | D64: =D63+1 -> 13 | E64: HBHF Gleis 1a | F64: 87 | G64: =P64-H64-5 -> 34.5 | H64: 50 | I64: =G64+H64 -> 84.5 | K64: 0 | M64: =E66 -> HAM HBHF Gleis 1a | N64: =F66 -> 17.5 | O64: =N64-$L$1 -> 2.5 | P64: =K64+F64+O64 -> 89.5 | Q64: =F64+K64+N64 -> 104.5 | R64: =ROUNDDOWN(F64+K64+O64,-1) -> 80
B65: =B64+1 -> 6 | D65: =D64+1 -> 14 | E65: HBHF Gleis 2a | F65: 81 | G65: =P65-H65-5 -> 28.5 | H65: 50 | I65: =G65+H65 -> 78.5 | K65: 0 | M65: =E67 -> HAM HBHF Gleis 2a | N65: =F67 -> 17.5 | O65: =N65-$L$1 -> 2.5 | P65: =K65+F65+O65 -> 83.5 | Q65: =F65+K65+N65 -> 98.5 | R65: =ROUNDDOWN(F65+K65+O65,-1) -> 80
B66: =B65+1 -> 7 | D66: =D65+1 -> 15 | E66: HAM HBHF Gleis 1a | F66: 17.5
B67: =B66+1 -> 8 | D67: =D66+1 -> 16 | E67: HAM HBHF Gleis 2a | F67: 17.5
A68: 9 | B68: 1 | C68: 5 | D68: 1 | E68: DKW HBHF Ausfahrt Ebene 5 Gl4/Gl5
B69: =B68+1 -> 2 | D69: =D68+1 -> 2 | E69: SIM HBHF Ausfahrt Zufahrtsgleis
B70: =B69+1 -> 3 | D70: =D69+1 -> 3 | E70: Weichenfeld HBHF Ausfahrt / GBHF
B71: =B70+1 -> 4 | D71: =D70+1 -> 4 | E71: Weiche HBHF Ausfahrt /Kehre aussen
B72: =B71+1 -> 5 | D72: =D71+1 -> 5 | E72: SIM Kehre aussen hinten
B73: =B72+1 -> 6 | D73: =D72+1 -> 6 | E73: Kehrschleife aussen hinten | F73: 375 | G73: =P73-H73-5 -> 294 | H73: 90 | I73: =G73+H73 -> 384 | K73: =F75 -> 0 | M73: =E74 -> HAM Kehrschleife aussen hinten | N73: =F74 -> 29 | O73: =N73-$L$1 -> 14 | P73: =K73+F73+O73 -> 389 | Q73: =F73+K73+N73 -> 404 | R73: =ROUNDDOWN(F73+K73+O73,-1) -> 380
B74: =B73+1 -> 7 | D74: =D73+1 -> 7 | E74: HAM Kehrschleife aussen hinten | F74: 29
B75: =B74+1 -> 8 | D75: =D74+1 -> 8 | E75: SIM Rangierbereich zu Hauptstrecke
A76: 10 | B76: 1 | D76: =D75+1 -> 9 | E76: Kehre rechts Auffahrt auf Hochstrecke | F76: 320 | G76: =P76-H76-5 -> 225 | H76: 90 | I76: =G76+H76 -> 315 | P76: =K76+F76+O76 -> 320 | Q76: =F76+K76+N76 -> 320 | R76: =ROUNDDOWN(F76+K76+O76,-1) -> 320
B77: =B76+1 -> 2 | D77: =D76+1 -> 10 | E77: Rampe Abfahrt rechts zu HBHF
B78: =B77+1 -> 3 | D78: =D77+1 -> 11 | E78: HAM Rampe Abfahrt vor Kehrschleif | F78: 23
B79: =B78+1 -> 4 | D79: =D78+1 -> 12 | E79: HAM Kehrschleife Rangierbereich | F79: 29
B80: =B79+1 -> 5 | D80: =D79+1 -> 13 | E80: HAM Kehrschleife vorne Hauptstrecke | F80: 26
B81: =B80+1 -> 6 | D81: =D80+1 -> 14 | E81: Rampe Abfahrt rechts aussen | F81: 224 | G81: =P81-H81-5 -> 137 | H81: 90 | I81: =G81+H81 -> 227 | M81: =E78 -> HAM Rampe Abfahrt vor Kehrschleif | N81: =F78 -> 23 | O81: =N81-$L$1 -> 8 | P81: =K81+F81+O81 -> 232 | Q81: =F81+K81+N81 -> 247 | R81: =ROUNDDOWN(F81+K81+O81,-1) -> 230
B82: =B81+1 -> 7 | D82: =D81+1 -> 15 | E82: Brücke Hochstrecke aussen | F82: 210 | G82: =P82-H82-5 -> 115 | H82: 90 | I82: =G82+H82 -> 205 | P82: =K82+F82+O82 -> 210 | Q82: =F82+K82+N82 -> 210 | R82: =ROUNDDOWN(F82+K82+O82,-1) -> 210
B83: =B82+1 -> 8 | D83: =D82+1 -> 16 | E83: Brücke Hochstrecke innen | F83: 210 | G83: =P83-H83-5 -> 115 | H83: 90 | I83: =G83+H83 -> 205 | P83: =K83+F83+O83 -> 210 | Q83: =F83+K83+N83 -> 210 | R83: =ROUNDDOWN(F83+K83+O83,-1) -> 210
A84: 11 | B84: 1 | C84: 6 | D84: 1 | E84: Hochstrecke rechts aussen | F84: 175 | G84: =P84-H84-5 -> 115 | H84: 90 | I84: =G84+H84 -> 205 | J84: =E86 -> HAM Hochstrecke vor Weiche Kehre hinten | K84: =F86 -> 35 | L84: =K84-$L$1 -> 20 | P84: =K84+F84+O84 -> 210 | Q84: =F84+K84+N84 -> 210 | R84: =ROUNDDOWN(F84+K84+O84,-1) -> 210
B85: =B84+1 -> 2 | D85: =D84+1 -> 2 | E85: Hochstrecke rechts innen | F85: 200 | G85: =P85-H85-5 -> 105 | H85: 90 | I85: =G85+H85 -> 195 | P85: =K85+F85+O85 -> 200 | Q85: =F85+K85+N85 -> 200 | R85: =ROUNDDOWN(F85+K85+O85,-1) -> 200
B86: =B85+1 -> 3 | D86: =D85+1 -> 3 | E86: HAM Hochstrecke vor Weiche Kehre hinten | F86: 35
B87: =B86+1 -> 4 | D87: =D86+1 -> 4 | E87: Weiche Einbindung Hochstrecke
B88: =B87+1 -> 5 | D88: =D87+1 -> 5 | E88: Hochstrecke mitte aussen | F88: 137 | G88: =P88-H88-5 -> 42 | H88: 90 | I88: =G88+H88 -> 132 | P88: =K88+F88+O88 -> 137 | Q88: =F88+K88+N88 -> 137 | R88: =ROUNDDOWN(F88+K88+O88,-1) -> 130
B89: =B88+1 -> 6 | D89: =D88+1 -> 6 | E89: Hochstrecke mitte innen | F89: 184 | G89: =P89-H89-5 -> 89 | H89: 90 | I89: =G89+H89 -> 179 | P89: =K89+F89+O89 -> 184 | Q89: =F89+K89+N89 -> 184 | R89: =ROUNDDOWN(F89+K89+O89,-1) -> 180
B90: =B89+1 -> 7 | D90: =D89+1 -> 7 | E90: Hochstrecke links aussen | F90: 228 | G90: =P90-H90-5 -> 152 | H90: 90 | I90: =G90+H90 -> 242 | J90: ='Belegtabschnitte RECHTS'!E20 -> HAM Hochstrecke aussen vor Kopfbhf | K90: ='Belegtabschnitte RECHTS'!F20 -> 19 | L90: =K90-$L$1 -> 4 | P90: =K90+F90+O90 -> 247 | Q90: =F90+K90+N90 -> 247 | R90: =ROUNDDOWN(F90+K90+O90,-1) -> 240
B91: =B90+1 -> 8 | D91: =D90+1 -> 8 | E91: Hochstrecke links innen | F91: 234 | G91: =P91-H91-5 -> 139 | H91: 90 | I91: =G91+H91 -> 229 | P91: =K91+F91+O91 -> 234 | Q91: =F91+K91+N91 -> 234 | R91: =ROUNDDOWN(F91+K91+O91,-1) -> 230
A92: 12 | B92: 1 | D92: =D91+1 -> 9 | E92: Kehrschleife vorne rechts aussen | F92: 340 | G92: =P92-H92-5 -> 256 | H92: 90 | I92: =G92+H92 -> 346 | M92: =E80 -> HAM Kehrschleife vorne Hauptstrecke | N92: =F80 -> 26 | O92: =N92-$L$1 -> 11 | P92: =K92+F92+O92 -> 351 | Q92: =F92+K92+N92 -> 366 | R92: =ROUNDDOWN(F92+K92+O92,-1) -> 350
B93: =B92+1 -> 2 | D93: =D92+1 -> 10 | E93: Kehrschleife vorne rechts innen | F93: 320 | G93: =P93-H93-5 -> 239 | H93: 90 | I93: =G93+H93 -> 329 | M93: =E79 -> HAM Kehrschleife Rangierbereich | N93: =F79 -> 29 | O93: =N93-$L$1 -> 14 | P93: =K93+F93+O93 -> 334 | Q93: =F93+K93+N93 -> 349 | R93: =ROUNDDOWN(F93+K93+O93,-1) -> 330
B94: =B93+1 -> 3 | D94: =D93+1 -> 11
B95: =B94+1 -> 4 | D95: =D94+1 -> 12
B96: =B95+1 -> 5 | D96: =D95+1 -> 13
B97: =B96+1 -> 6 | D97: =D96+1 -> 14
B98: =B97+1 -> 7 | D98: =D97+1 -> 15
B99: =B98+1 -> 8 | D99: =D98+1 -> 16

Sheet Belegtabschnitte RECHTS
A1: Rückmelderbelegung : Zuordnung der Anschlüsse zu den Gleisabschnitten der Anlage und Blöcken bzw. Weichen in TC | J1: Genereller Abstand Haltepunkt vor Blockende | L1: 15
A2: LDT HSI-88 - rechter Bus | F2: Länge | G2: Bremsmarkierung alle Werte in CM | J2: Belegtabschnitt HAM links | K2: Länge HAM 1 | L2: Haltemarkierung im HAM 1 | M2: Belegtabschnitt HAM re | N2: Länge HAM 2 | O2: Haltemarkierung im HAM 2 | P2: Haltepunkt | Q2: BLOCKLÄNGE | R2: Max Zugslänge
A3: RM | B3: Anschluss | C3: Nummer für TC | E3: Gleisabschnitt | G3: Distanz | H3: Rampe | I3: Kriech-geschw. | L3: Distanz
A4: 1 | B4: 1 | C4: 1 | D4: 1 | E4: HAM Kopfbahnhof Gleis 1
B5: =B4+1 -> 2 | D5: =D4+1 -> 2 | E5: HAM Kopfbahnhof Gleis 2
B6: =B5+1 -> 3 | D6: =D5+1 -> 3 | E6: Kopfbahnhof Gleis 1
B7: =B6+1 -> 4 | D7: =D6+1 -> 4 | E7: Kopfbahnhof Gleis 2
B8: =B7+1 -> 5 | D8: =D7+1 -> 5 | E8: SIM Kopfbahnhof Gleis 1
B9: =B8+1 -> 6 | D9: =D8+1 -> 6 | E9: SIM Kopfbahnhof Gleis 2
B10: =B9+1 -> 7 | D10: =D9+1 -> 7 | E10: Weiche Kopfbahnhof Gl 1 Gl 2
B11: =B10+1 -> 8 | D11: =D10+1 -> 8 | E11: Weiche Kopfbhf Personen / Güterbereich
A12: 2 | B12: 1 | D12: =D11+1 -> 9 | E12: Kopfbhf Güter Umsetzgleis
B13: =B12+1 -> 2 | D13: =D12+1 -> 10 | E13: Kopfbhf weiche Umsetzgleis
B14: =B13+1 -> 3 | D14: =D13+1 -> 11 | E14: Kopfbahnhof Gütergleis 4
B15: =B14+1 -> 4 | D15: =D14+1 -> 12 | E15: Kopfbahnhof Gütergleis 3
B16: =B15+1 -> 5 | D16: =D15+1 -> 13 | E16: Kopfbahnhof Weiche Gütergleise
B17: =B16+1 -> 6 | D17: =D16+1 -> 14 | E17: HAM Hochstrecke vor Kopfbhf | F17: 22
B18: =B17+1 -> 7 | D18: =D17+1 -> 15 | E18: Weiche Hochstrecke Kopfbhf aussen
B19: =B18+1 -> 8 | D19: =D18+1 -> 16 | E19: EKW Hochstrecke Kopfbhf innen
A20: 3 | B20: 1 | C20: 2 | D20: 1 | E20: HAM Hochstrecke aussen vor Kopfbhf | F20: 19
B21: =B20+1 -> 2 | D21: =D20+1 -> 2 | E21: SIM Kehrschleife vorne
B22: =B21+1 -> 3 | D22: =D21+1 -> 3 | E22: HAM Auszugsgleis Rangierbereich
B23: =B22+1 -> 4 | D23: =D22+1 -> 4 | E23: Kehrschleife vorne links
B24: =B23+1 -> 5 | D24: =D23+1 -> 5 | E24: Auszugsgleis Rangierbereich
B25: =B24+1 -> 6 | D25: =D24+1 -> 6 | E25: HAM Kehrschleife vorne links
B26: =B25+1 -> 7 | D26: =D25+1 -> 7 | E26: Weiche Kehrschleife vorne mitte
B27: =B26+1 -> 8 | D27: =D26+1 -> 8 | E27: leer
A28: 4 | B28: 1 | D28: =D27+1 -> 9
B29: =B28+1 -> 2 | D29: =D28+1 -> 10
B30: =B29+1 -> 3 | D30: =D29+1 -> 11
B31: =B30+1 -> 4 | D31: =D30+1 -> 12
B32: =B31+1 -> 5 | D32: =D31+1 -> 13
B33: =B32+1 -> 6 | D33: =D32+1 -> 14
B34: =B33+1 -> 7 | D34: =D33+1 -> 15
B35: =B34+1 -> 8 | D35: =D34+1 -> 16 | E35: HAM Auszugsgleis Rangierbereich
A36: 5 | B36: 1 | C36: 3 | D36: 1
B37: =B36+1 -> 2 | D37: =D36+1 -> 2
B38: =B37+1 -> 3 | D38: =D37+1 -> 3 | E38: HAM Gleis 5a Ladebereich
B39: =B38+1 -> 4 | D39: =D38+1 -> 4 | E39: GBHF Gleis 5a
B40: =B39+1 -> 5 | D40: =D39+1 -> 5 | E40: HAM Gleis 4a Ladebereich
B41: =B40+1 -> 6 | D41: =D40+1 -> 6 | E41: GBHF Gleis 4a
B42: =B41+1 -> 7 | D42: =D41+1 -> 7 | E42: HAM Gleis 3a Ladebereich
B43: =B42+1 -> 8 | D43: =D42+1 -> 8 | E43: GBHF Gleis 3a
A44: 6 | B44: 1 | D44: =D43+1 -> 9 | E44: HAM Gleis 2a Ladebereich
B45: =B44+1 -> 2 | D45: =D44+1 -> 10 | E45: GBHF Gleis 2a
B46: =B45+1 -> 3 | D46: =D45+1 -> 11 | E46: HAM Gleis 1a Ladebereich
B47: =B46+1 -> 4 | D47: =D46+1 -> 12 | E47: GBHF Gleis 1a
B48: =B47+1 -> 5 | D48: =D47+1 -> 13 | E48: SIM Zufahrt Güterbereich
B49: =B48+1 -> 6 | D49: =D48+1 -> 14 | E49: GBHF DKW Gkeis 1a / Gleis 1
B50: =B49+1 -> 7 | D50: =D49+1 -> 15 | E50: GBHF DKW Gkeis 2a / Gleis 2
B51: =B50+1 -> 8 | D51: =D50+1 -> 16 | E51: GBHF DKW Gkeis 3a / Gleis 3
A52: 7 | B52: 1 | C52: 4 | D52: 1 | E52: GBHF WL+DKW Gleis 4a+5a / Gleis 4
B53: =B52+1 -> 2 | D53: =D52+1 -> 2 | E53: GBHF DKW Gleis 6a+9a / Gleis 5
B54: =B53+1 -> 3 | D54: =D53+1 -> 3 | E54: DKW+WR Auszugsgleis 10 / Kehrschleife vo re innen
B55: =B54+1 -> 4 | D55: =D54+1 -> 4 | E55: GBHF Gleis 5 Hauptgleis
B56: =B55+1 -> 5 | D56: =D55+1 -> 5 | E56: GBHF Gleis 4 Hauptgleis
B57: =B56+1 -> 6 | D57: =D56+1 -> 6 | E57: GBHF Gleis 3 Hauptgleis
B58: =B57+1 -> 7 | D58: =D57+1 -> 7 | E58: GBHF Gleis 2 Hauptgleis
B59: =B58+1 -> 8 | D59: =D58+1 -> 8 | E59: GBHF Gleis 1 Hauptgleis
A60: 8 | B60: 1 | D60: =D59+1 -> 9 | E60: SIM Kehrschleife rechts vorne innen
B61: =B60+1 -> 2 | D61: =D60+1 -> 10 | E61: leer
B62: =B61+1 -> 3 | D62: =D61+1 -> 11 | E62: HAM GBHF Gleis 5
B63: =B62+1 -> 4 | D63: =D62+1 -> 12 | E63: GBHF DKW Gleis 5 / Gleis 6b
B64: =B63+1 -> 5 | D64: =D63+1 -> 13 | E64: HAM GBHF Gleis 4
B65: =B64+1 -> 6 | D65: =D64+1 -> 14 | E65: GBHF DKW+WR Gleis 4 / Gleis 4b+5b
B66: =B65+1 -> 7 | D66: =D65+1 -> 15 | E66: BBW Gleis 6b
B67: =B66+1 -> 8 | D67: =D66+1 -> 16 | E67: HAM BBW Gleis 6b
A68: 9 | B68: 1 | C68: 5 | D68: 1 | E68: HAM GBHF Gleis 3
B69: =B68+1 -> 2 | D69: =D68+1 -> 2 | E69: GBHF DKW Gleis 3 / Gleis 3b
B70: =B69+1 -> 3 | D70: =D69+1 -> 3 | E70: HAM GBHF Gleis 2
B71: =B70+1 -> 4 | D71: =D70+1 -> 4 | E71: GBHF DKW Gleis 2 / Gleis 2b
B72: =B71+1 -> 5 | D72: =D71+1 -> 5 | E72: HAM GBHF Gleis 1
B73: =B72+1 -> 6 | D73: =D72+1 -> 6 | E73: BBW Gleis 5b
B74: =B73+1 -> 7 | D74: =D73+1 -> 7 | E74: HAM BBW Gleiss 5b
B75: =B74+1 -> 8 | D75: =D74+1 -> 8 | E75: WR BBW Gleis 4b / Gleis 3+Gleis4
A76: 10 | B76: 1 | D76: =D75+1 -> 9 | E76: SIM BBW Gleis 3b
B77: =B76+1 -> 2 | D77: =D76+1 -> 10 | E77: SIM BBW Gleis 2b
B78: =B77+1 -> 3 | D78: =D77+1 -> 11 | E78: GBHF DKW Gkeis 1 / Gleis 1b
B79: =B78+1 -> 4 | D79: =D78+1 -> 12 | E79: Verbindung GBHF zu 4-er und Hauptstrecke
B80: =B79+1 -> 5 | D80: =D79+1 -> 13 | E80: SIM BBW Gleis 1b
B81: =B80+1 -> 6 | D81: =D80+1 -> 14 | E81: BBW Gleis 1b
B82: =B81+1 -> 7 | D82: =D81+1 -> 15 | E82: BBW Gleis 2b
B83: =B82+1 -> 8 | D83: =D82+1 -> 16 | E83: BBW Gleis 3b
A84: 11 | B84: 1 | C84: 6 | D84: 1 | E84: BBW Gleis 4b
B85: =B84+1 -> 2 | D85: =D84+1 -> 2 | E85: BBW WR Gleis 4bc/4d
B86: =B85+1 -> 3 | D86: =D85+1 -> 3 | E86: BBW Gleis 3c
B87: =B86+1 -> 4 | D87: =D86+1 -> 4 | E87: BBW WL Gleis 3c / 4b
B88: =B87+1 -> 5 | D88: =D87+1 -> 5 | E88: BBW Gleis 5c
B89: =B88+1 -> 6 | D89: =D88+1 -> 6 | E89: BBW Gleis 5c HAM
B90: =B89+1 -> 7 | D90: =D89+1 -> 7 | E90: BBW WL Gleis 1c / 2c
B91: =B90+1 -> 8 | D91: =D90+1 -> 8 | E91: BBW Gleis 2c
A92: 12 | B92: 1 | D92: =D91+1 -> 9 | E92: 4-er Lokstand Gleis 1
B93: =B92+1 -> 2 | D93: =D92+1 -> 10 | E93: Weichenfeld vor 4-er Lokstand
B94: =B93+1 -> 3 | D94: =D93+1 -> 11 | E94: 4-er Lokstand Gleis 2
B95: =B94+1 -> 4 | D95: =D94+1 -> 12 | E95: 4-er Lokstand Gleis 3
B96: =B95+1 -> 5 | D96: =D95+1 -> 13 | E96: 4-er Lokstand Gleis 4
B97: =B96+1 -> 6 | D97: =D96+1 -> 14 | E97: BBW Gleis 1c
B98: =B97+1 -> 7 | D98: =D97+1 -> 15
B99: =B98+1 -> 8 | D99: =D98+1 -> 16
A100: 13 | B100: 1 | C100: 7 | D100: 1
...

Sheet Decoderbelegung
A1: Belegung der Decoder und Weichen
D2: CV1 | F2: Digitale Adresse
A3: DEKODERBELEGUNG CV 1 | C3: Stk geschätzt | D3: von | E3: bis
A4: LOKDECODER | C4: 35 | D4: 1 | E4: 35 | H4: 3 auslassen!
A5: Waggos Beleuchtung | C5: 10 | D5: 40 | E5: 50
A6: WEICHEN 4-fach | B6: Servos | C6: =G6-F6 -> 171 | D6: =B15 -> 51 | E6: =B57 -> 93 | F6: =C15 -> 201 | G6: =F57 -> 372
A7: Entkuppler | C7: 15 | D7: bei Weichenservos enthalten
A8: SIGNALE | C8: 95 | D8: 400 | E8: =D8+C8*2 -> 590 | H8: 5 Signale je Decoder, 2 Zubehöradressen je Signal
A9: Drehscheibe
A10: Funktionen
A11: Beleuchtung | D11: 600 | E11: 700
A12: 4-fach Weichendekoder | C12: WD = Weichendekoder, WS = Weichenservo | G12: CV1 mit High bit | I12: Festlegung Servo-Enstellungen
I13: CV34 bis CV 48 mit Angabe der ZUNGENLAGEN li / re bzw vo / hi (DKW, EKW!)
A14: Bereich | B14: CV 1 | C14: Weichenservos Nr | G14: CV 1 | H14: CV 9 | I14: CV 34 | K14: CV 36 | M14: CV 38 | O14: CV 40 | Q14: CV 42 | S14: CV 44 | U14: CV 46 | W14: CV 48
A15: Einfahrt, Ausfahrt SBF | B15: 51 | C15: =B15*4-3 -> 201 | D15: =B15*4-2 -> 202 | E15: =B15*4-1 -> 203 | F15: =B15*4 -> 204 | G15: =B15-H15*64 -> 51 | H15: 0
A16: Einfahrt SBF 1 | B16: =B15+1 -> 52 | C16: =B16*4-3 -> 205 | D16: =B16*4-2 -> 206 | E16: =B16*4-1 -> 207 | F16: =B16*4 -> 208 | G16: =B16-H16*64 -> 52 | H16: 0
A17: Ausfahrt SBF 1 | B17: =B16+1 -> 53 | C17: =B17*4-3 -> 209 | D17: =B17*4-2 -> 210 | E17: =B17*4-1 -> 211 | F17: =B17*4 -> 212 | G17: =B17-H17*64 -> 53 | H17: 0
A18: Ausfahrt SBF 1 | B18: =B17+1 -> 54 | C18: =B18*4-3 -> 213 | D18: =B18*4-2 -> 214 | E18: =B18*4-1 -> 215 | F18: =B18*4 -> 216 | G18: =B18-H18*64 -> 54 | H18: 0
A19: Einfahrt SBF 2 | B19: =B18+1 -> 55 | C19: =B19*4-3 -> 217 | D19: =B19*4-2 -> 218 | E19: =B19*4-1 -> 219 | F19: =B19*4 -> 220 | G19: =B19-H19*64 -> 55 | H19: 0
A20: Einfahrt SBF 2 | B20: =B19+1 -> 56 | C20: =B20*4-3 -> 221 | D20: =B20*4-2 -> 222 | E20: =B20*4-1 -> 223 | F20: =B20*4 -> 224 | G20: =B20-H20*64 -> 56 | H20: 0
A21: Ausfahrt SBF 2 | B21: =B20+1 -> 57 | C21: =B21*4-3 -> 225 | D21: =B21*4-2 -> 226 | E21: =B21*4-1 -> 227 | F21: =B21*4 -> 228 | G21: =B21-H21*64 -> 57 | H21: 0
A22: Ausfahrt SBF 2 | B22: =B21+1 -> 58 | C22: =B22*4-3 -> 229 | D22: =B22*4-2 -> 230 | E22: =B22*4-1 -> 231 | F22: =B22*4 -> 232 | G22: =B22-H22*64 -> 58 | H22: 0
A23: SBF2 zu SBF 3 | B23: =B22+1 -> 59 | C23: =B23*4-3 -> 233 | D23: =B23*4-2 -> 234 | E23: =B23*4-1 -> 235 | F23: =B23*4 -> 236 | G23: =B23-H23*64 -> 59 | H23: 0
A24: Einfahrt SBF 3 | B24: =B23+1 -> 60 | C24: =B24*4-3 -> 237 | D24: =B24*4-2 -> 238 | E24: =B24*4-1 -> 239 | F24: =B24*4 -> 240 | G24: =B24-H24*64 -> 60 | H24: 0 | I24: vo | J24: 28 | K24: hi | L24: 32 | M24: vo | N24: 27 | O24: hi | P24: 33 | Q24: vo | R24: 27 | S24: hi | T24: 33 | U24: vo | V24: 28 | W24: hi | X24: 32
A25: Einfahrt SBF 3 | B25: =B24+1 -> 61 | C25: =B25*4-3 -> 241 | D25: =B25*4-2 -> 242 | E25: =B25*4-1 -> 243 | F25: =B25*4 -> 244 | G25: =B25-H25*64 -> 61 | H25: 0
A26: Ausfahrt SBF 3 | B26: =B25+1 -> 62 | C26: =B26*4-3 -> 245 | D26: =B26*4-2 -> 246 | E26: =B26*4-1 -> 247 | F26: =B26*4 -> 248 | G26: =B26-H26*64 -> 62 | H26: 0
A27: Ausfahrt SBF 3 | B27: =B26+1 -> 63 | C27: =B27*4-3 -> 249 | D27: =B27*4-2 -> 250 | E27: =B27*4-1 -> 251 | F27: =B27*4 -> 252 | G27: =B27-H27*64 -> 63 | H27: 0
A28: Nicht belegbar | B28: =B27+1 -> 64 | C28: =B28*4-3 -> 253 | D28: =B28*4-2 -> 254 | E28: =B28*4-1 -> 255 | F28: =B28*4 -> 256 | G28: CV1 mit null nicht möglich
A29: Rampe-Hauptstrecke-Aussenkehre 1 | B29: =B28+1 -> 65 | C29: =B29*4-3 -> 257 | D29: =B29*4-2 -> 258 | E29: =B29*4-1 -> 259 | F29: =B29*4 -> 260 | G29: =B29-H29*64 -> 1 | H29: 1
A30: Einfahrt HBHF 1 | B30: =B29+1 -> 66 | C30: =B30*4-3 -> 261 | D30: =B30*4-2 -> 262 | E30: =B30*4-1 -> 263 | F30: =B30*4 -> 264 | G30: =B30-H30*64 -> 2 | H30: 1 | I30: vo | J30: 26 | K30: hi | L30: 29 | M30: hi | N30: 26 | O30: vo | P30: 30 | Q30: hi | R30: 28 | S30: vo | T30: 32 | U30: vo | V30: 28 | W30: hi | X30: 30 | Y30: Servo 263 Anpressdruck nach hinten erhöht 20.01.14
A31: Einfahrt HBHF 2 | B31: =B30+1 -> 67 | C31: =B31*4-3 -> 265 | D31: =B31*4-2 -> 266 | E31: =B31*4-1 -> 267 | F31: =B31*4 -> 268 | G31: =B31-H31*64 -> 3 | H31: 1 | I31: hi | J31: 28 | K31: vo | L31: 34 | M31: vo | N31: 30 | O31: hi | P31: 34 | Q31: hi | R31: 24 | S31: vo | T31: 27 | U31: x | V31: x | W31: x | X31: x
A32: Einfahrt HBHF 3 | B32: =B31+1 -> 68 | C32: =B32*4-3 -> 269 | D32: =B32*4-2 -> 270 | E32: =B32*4-1 -> 271 | F32: =B32*4 -> 272 | G32: =B32-H32*64 -> 4 | H32: 1 | I32: hi | J32: 27 | K32: vo | L32: 30 | M32: hi | N32: 29 | O32: vo | P32: 32 | Q32: hi | R32: 27 | S32: vo | T32: 30 | U32: vo | V32: 27 | W32: hi | X32: 31
A33: Einfahrt HBHF 4 | B33: =B32+1 -> 69 | C33: =B33*4-3 -> 273 | D33: =B33*4-2 -> 274 | E33: =B33*4-1 -> 275 | F33: =B33*4 -> 276 | G33: =B33-H33*64 -> 5 | H33: 1 | I33: vo | J33: 27 | K33: hi | L33: 31 | M33: vo | N33: 23 | O33: hi | P33: 27 | Q33: vo | R33: 22 | S33: hi | T33: 25 | U33: hi | V33: 28 | W33: vo | X33: 32 | Y33: Servo 273 getauscht 11.01.14
A34: Ausfahrt HBHF 1 | B34: =B33+1 -> 70 | C34: =B34*4-3 -> 277 | D34: =B34*4-2 -> 278 | E34: =B34*4-1 -> 279 | F34: =B34*4 -> 280 | G34: =B34-H34*64 -> 6 | H34: 1 | I34: x | J34: x | K34: x | L34: x | M34: hi | N34: 26 | O34: vo | P34: 29 | Q34: vo | R34: 32 | S34: hi | T34: 35 | U34: hi | V34: 27 | W34: vo | X34: 30
A35: Ausfahrt HBHF 2 | B35: =B34+1 -> 71 | C35: =B35*4-3 -> 281 | D35: =B35*4-2 -> 282 | E35: =B35*4-1 -> 283 | F35: =B35*4 -> 284 | G35: =B35-H35*64 -> 7 | H35: 1 | I35: hi | J35: 28 | K35: vo | L35: 31 | M35: hi | N35: 27 | O35: vo | P35: 31 | Q35: vo | R35: 25 | S35: hi | T35: 29 | U35: vo | V35: 29 | W35: hi | X35: 32
A36: Ausfahrt HBHF 3 | B36: =B35+1 -> 72 | C36: =B36*4-3 -> 285 | D36: =B36*4-2 -> 286 | E36: =B36*4-1 -> 287 | F36: =B36*4 -> 288 | G36: =B36-H36*64 -> 8 | H36: 1 | I36: hi | J36: 29 | K36: vo | L36: 32 | M36: vo | N36: 26 | O36: hi | P36: 29 | Q36: x | R36: x | S36: x | T36: x | U36: vo | V36: 27 | W36: hi | X36: 30
A37: Ausfahrt HBHF 4 | B37: =B36+1 -> 73 | C37: =B37*4-3 -> 289 | D37: =B37*4-2 -> 290 | E37: =B37*4-1 -> 291 | F37: =B37*4 -> 292 | G37: =B37-H37*64 -> 9 | H37: 1 | I37: hi | J37: 29 | K37: vo | L37: 34 | M37: hi | N37: 27 | O37: vo | P37: 32 | Q37: vo | R37: 30 | S37: hi | T37: 33 | U37: vo | V37: 29 | W37: hi | X37: 32 | Y37: Servo 290 nachgestellt 15.01.14, getauscht am 28.11.14
A38: Ausfahrt HBHF 5 | B38: =B37+1 -> 74 | C38: =B38*4-3 -> 293 | D38: =B38*4-2 -> 294 | E38: =B38*4-1 -> 295 | F38: =B38*4 -> 296 | G38: =B38-H38*64 -> 10 | H38: 1 | I38: vo | J38: 26 | K38: hi | L38: 30 | M38: vo | N38: 25 | O38: hi | P38: 29 | Q38: vo | R38: 28 | S38: hi | T38: 31 | U38: hi | V38: 28 | W38: vo | X38: 31 | Y38: 30.11.14: Servo 293, 294 nachgestellt;
A39: Ausfahrt HBHF, Rangierbereich,Kehre 2 | B39: =B38+1 -> 75 | C39: =B39*4-3 -> 297 | D39: =B39*4-2 -> 298 | E39: =B39*4-1 -> 299 | F39: =B39*4 -> 300 | G39: =B39-H39*64 -> 11 | H39: 1 | I39: hi | J39: 24 | K39: vo | L39: 27 | M39: hi | N39: 29 | O39: vo | P39: 32 | Q39: x | R39: x | S39: x | T39: x | U39: x | V39: x | W39: x | X39: x | Y39: Servo 298 getauscht 10.01.14
A40: Kehre und Kehrschleife rechts | B40: =B39+1 -> 76 | C40: =B40*4-3 -> 301 | D40: =B40*4-2 -> 302 | E40: =B40*4-1 -> 303 | F40: =B40*4 -> 304 | G40: =B40-H40*64 -> 12 | H40: 1 | I40: hi | J40: 27 | K40: vo | L40: 30 | M40: hi | N40: 31 | O40: vo | P40: 34 | Q40: x | R40: x | S40: x | T40: x | U40: x | V40: x | W40: x | X40: x
A41: Einbindung Kehrschleife Hochstrecke | B41: =B40+1 -> 77 | C41: =B41*4-3 -> 305 | D41: =B41*4-2 -> 306 | E41: =B41*4-1 -> 307 | F41: =B41*4 -> 308 | G41: =B41-H41*64 -> 13 | H41: 1 | I41: hi | J41: 29 | K41: vo | L41: 32 | M41: x | N41: x | O41: x | P41: x | Q41: x | R41: x | S41: x | T41: x | U41: x | V41: x | W41: x | X41: x
A42: Abzweigung Kopfbahnhof | B42: =B41+1 -> 78 | C42: =B42*4-3 -> 309 | D42: =B42*4-2 -> 310 | E42: =B42*4-1 -> 311 | F42: =B42*4 -> 312 | G42: =B42-H42*64 -> 14 | H42: 1 | I42: hi | J42: 30 | K42: vo | L42: 34 | M42: vo | N42: 28 | O42: hi | P42: 32 | Q42: hi | R42: 28 | S42: vo | T42: 32 | U42: x | V42: x | W42: x | X42: x
A43: Kopfbahnhof Personen / Güter | B43: =B42+1 -> 79 | C43: =B43*4-3 -> 313 | D43: =B43*4-2 -> 314 | E43: =B43*4-1 -> 315 | F43: =B43*4 -> 316 | G43: =B43-H43*64 -> 15 | H43: 1 | I43: hi | J43: 28 | K43: vo | L43: 32 | M43: vo | N43: 28 | O43: hi | P43: 32 | Q43: vo | R43: 28 | S43: vo | T43: 32 | U43: x | V43: x | W43: x | X43: x
A44: Kopfbhf Güter und Entkuppler | B44: =B43+1 -> 80 | C44: =B44*4-3 -> 317 | D44: =B44*4-2 -> 318 | E44: =B44*4-1 -> 319 | F44: =B44*4 -> 320 | G44: =B44-H44*64 -> 16 | H44: 1 | I44: vo | J44: 26 | K44: hi | L44: 43 | M44: vo | N44: 26 | O44: hi | P44: 43 | Q44: vo | R44: 28 | S44: vo | T44: 32 | U44: x | V44: x | W44: x | X44: x
A45: Güterbahnhof Entkuppler Gleis 7a bis 9a | B45: =B44+1 -> 81 | C45: =B45*4-3 -> 321 | D45: =B45*4-2 -> 322 | E45: =B45*4-1 -> 323 | F45: =B45*4 -> 324 | G45: =B45-H45*64 -> 17 | H45: 1 | I45: o | J45: 20 | K45: u | L45: 34 | M45: o | N45: 20 | O45: u | P45: 32 | Q45: o | R45: 28 | S45: u | T45: 40 | U45: o | V45: 32 | W45: u | X45: 42
A46: GBHF Weichen Gl 6a bis 9a, Entkuppler Gl 5a | B46: =B45+1 -> 82 | C46: =B46*4-3 -> 325 | D46: =B46*4-2 -> 326 | E46: =B46*4-1 -> 327 | F46: =B46*4 -> 328 | G46: =B46-H46*64 -> 18 | H46: 1 | I46: vo | J46: 28 | K46: hi | L46: 32 | M46: hi | N46: 31 | O46: vo | P46: 35 | Q46: hi | R46: 29 | S46: vo | T46: 33 | U46: o | V46: 34 | W46: u | X46: 41 | Y46: Delta H = 12
A47: GBHF Entkuppler Gleis 1a bis 4a | B47: =B46+1 -> 83 | C47: =B47*4-3 -> 329 | D47: =B47*4-2 -> 330 | E47: =B47*4-1 -> 331 | F47: =B47*4 -> 332 | G47: =B47-H47*64 -> 19 | H47: 1 | I47: o | J47: 26 | K47: u | L47: 38 | M47: o | N47: 29 | O47: u | P47: 37 | Q47: o | R47: 30 | S47: u | T47: 39 | U47: o | V47: 24 | W47: u | X47: 34 | Y47: Delta H = 8-10
A48: GBHF DKW Gleis 1a, Gleis 2a | B48: =B47+1 -> 84 | C48: =B48*4-3 -> 333 | D48: =B48*4-2 -> 334 | E48: =B48*4-1 -> 335 | F48: =B48*4 -> 336 | G48: =B48-H48*64 -> 20 | H48: 1 | I48: vo | J48: 29 | K48: hi | L48: 35 | M48: x | N48: x | O48: x | P48: x | Q48: vo | R48: 28 | S48: hi | T48: 33 | U48: vo | V48: 28 | W48: hi | X48: 32
A49: GBHF DKW Gleis 2a, Gleis 3a | B49: =B48+1 -> 85 | C49: =B49*4-3 -> 337 | D49: =B49*4-2 -> 338 | E49: =B49*4-1 -> 339 | F49: =B49*4 -> 340 | G49: =B49-H49*64 -> 21 | H49: 1 | I49: vo | J49: 27 | K49: hi | L49: 33 | M49: vo | N49: 29 | O49: hi | P49: 34 | Q49: vo | R49: 29 | S49: hi | T49: 33 | U49: vo | V49: 30 | W49: hi | X49: 35
A50: GBHF DKW Gleis 4a, Gleis 5 | B50: =B49+1 -> 86 | C50: =B50*4-3 -> 341 | D50: =B50*4-2 -> 342 | E50: =B50*4-1 -> 343 | F50: =B50*4 -> 344 | G50: =B50-H50*64 -> 22 | H50: 1 | I50: x | J50: x | K50: x | L50: x | M50: vo | N50: 29 | O50: hi | P50: 34 | Q50: vo | R50: 26 | S50: hi | T50: 31 | U50: vo | V50: 29 | W50: hi | X50: 35
A51: GBHF DKW Ausziehgleis li, WR Kehre vor re innen | B51: =B50+1 -> 87 | C51: =B51*4-3 -> 345 | D51: =B51*4-2 -> 346 | E51: =B51*4-1 -> 347 | F51: =B51*4 -> 348 | G51: =B51-H51*64 -> 23 | H51: 1 | I51: vo | J51: 30 | K51: hi | L51: 34 | M51: vo | N51: 27 | O51: hi | P51: 31 | Q51: hi | R51: 29 | S51: vo | T51: 33 | U51: vo | V51: 29 | W51: hi | X51: 34
A52: GBHF DKW Gl 5, Entkuppler Gl 4+5, WR Kehrschleife vo mitte | B52: =B51+1 -> 88 | C52: =B52*4-3 -> 349 | D52: =B52*4-2 -> 350 | E52: =B52*4-1 -> 351 | F52: =B52*4 -> 352 | G52: =B52-H52*64 -> 24 | H52: 1 | I52: vo | J52: 29 | K52: hi | L52: 33 | M52: o | N52: 39 | O52: u | P52: 47 | Q52: o | R52: 36 | S52: u | T52: 48 | U52: hi | V52: 28 | W52: vo | X52: 32
A53: GBHF Entkuppler Gl 3, DKW Gl4, Gl5 | B53: =B52+1 -> 89 | C53: =B53*4-3 -> 353 | D53: =B53*4-2 -> 354 | E53: =B53*4-1 -> 355 | F53: =B53*4 -> 356 | G53: =B53-H53*64 -> 25 | H53: 1 | I53: o | J53: 35 | K53: u | L53: 46 | M53: x | N53: x | O53: x | P53: x | Q53: vo | R53: 25 | S53: hi | T53: 30 | U53: vo | V53: 26 | W53: hi | X53: 30
A54: GBHF DKW Gleis 3/3b, DKW Gleis 4, WR Gleis 4b | B54: =B53+1 -> 90 | C54: =B54*4-3 -> 357 | D54: =B54*4-2 -> 358 | E54: =B54*4-1 -> 359 | F54: =B54*4 -> 360 | G54: =B54-H54*64 -> 26 | H54: 1 | I54: vo | J54: 24 | K54: hi | L54: 29 | M54: vo | N54: 29 | O54: hi | P54: 33 | Q54: vo | R54: 28 | S54: hi | T54: 32 | U54: vo | V54: 29 | W54: hi | X54: 33
A55: GBHF DKW Gl 2/2b, Entk. Gl 2, Gl 2; WR Gl 2b | B55: =B54+1 -> 91 | C55: =B55*4-3 -> 361 | D55: =B55*4-2 -> 362 | E55: =B55*4-1 -> 363 | F55: =B55*4 -> 364 | G55: =B55-H55*64 -> 27 | H55: 1 | I55: o | J55: 34 | K55: u | L55: 45 | M55: vo | N55: 30 | O55: hi | P55: 34 | Q55: o | R55: 39 | S55: u | T55: 45 | U55: vo | V55: 28 | W55: hi | X55: 32
A56: GBHF DKW Gl 1/1b, DKW Gl2/2b, WR Gl 4b | B56: =B55+1 -> 92 | C56: =B56*4-3 -> 365 | D56: =B56*4-2 -> 366 | E56: =B56*4-1 -> 367 | F56: =B56*4 -> 368 | G56: =B56-H56*64 -> 28 | H56: 1 | I56: hi | J56: 28 | K56: vo | L56: 32 | M56: vo | N56: 29 | O56: hi | P56: 33 | Q56: vo | R56: 28 | S56: hi | T56: 32 | U56: vo | V56: 26 | W56: hi | X56: 30
A57: BBW, Weichen vor Drehscheibe, 3 x WL Gleis 1c - 4c | B57: =B56+1 -> 93 | C57: =B57*4-3 -> 369 | D57: =B57*4-2 -> 370 | E57: =B57*4-1 -> 371 | F57: =B57*4 -> 372 | G57: =B57-H57*64 -> 29 | H57: 1 | I57: li | J57: 29 | K57: re | L57: 33 | M57: re | N57: 31 | O57: li | P57: 35 | Q57: re | R57: 31 | S57: li | T57: 35 | U57: hi | V57: 28 | W57: vo | X57: 32
A58: BBW, Weichen vor Lokhalle, 3x WR Gleise Lokstand 1 - 4 | B58: 94 | C58: =B58*4-3 -> 373 | D58: =B58*4-2 -> 374 | E58: =B58*4-1 -> 375 | F58: =B58*4 -> 376 | G58: =B58-H58*64 -> 30 | H58: 1 | I58: x | J58: x | K58: x | L58: x | M58: li | N58: 31 | O58: re | P58: 35 | Q58: li | R58: 27 | S58: re | T58: 31 | U58: re | V58: 26 | W58: li | X58: 30

Sheet Signaldecoder
A1: SIGNALDECODER | B1: LSD
A2: Signalbelegung der CV1
A3: Signalanzahl | B3: =Decoderbelegung!C8 -> 95 | C3: CV1 von | D3: =Decoderbelegung!D8 -> 400 | E3: bis | F3: =Decoderbelegung!E8 -> 590 | G3: bei 5 dreibegriffigen Signalen je Decoder
A5: MSB | B5: Höherwertige Bit | D5: CV1 ist erste Zubehöradresse zur identifikation des Decoders
A6: LSB | B6: Niedrigerwertige Bit
A8: QDECODER Nr | B8: LSD-01
A9: Ausgang | B9: Farbe | C9: MSB | D9: Wert | E9: LSB | F9: Wert | G9: Adresse | H9: Mode | I9: Mode | J9: Signal | K9: Standort | L9: Begriff | M9: schalten mit
A10: A0 | B10: rot | C10: CV 9 | D10: 1 | E10: CV 1 | F10: 144 | G10: =F10+256*D10 -> 400 | H10: CV 550 | I10: 2 | J10: Verschubsignal | K10: Kopfbhf - Ausziehgleis | L10: Halt
A11: A1 | B11: grün | C11: CV 551 | E11: CV 552 | H11: CV 553 | L11: Fahrt
A12: A2 | B12: rot | C12: CV 554 | D12: 1 | E12: CV 555 | F12: 145 | G12: =F12+256*D12 -> 401 | H12: CV 556 | I12: 2 | J12: Verschubsignal | K12: Kopfbhf - Ladegleis | L12: Halt
A13: A3 | B13: grün | C13: CV 557 | E13: CV 558 | H13: CV 559 | L13: Fahrt
A14: A4 | B14: rot | C14: CV 560 | D14: 1 | E14: CV 561 | F14: 146 | G14: =F14+256*D14 -> 402 | H14: CV 562 | I14: 2 | J14: Verschubsignal | K14: Kopfbhf - Umfahrungsgleis | L14: Halt
A15: A5 | B15: grün | C15: CV 563 | E15: CV 564 | H15: CV 565 | L15: Fahrt
A16: A6 | B16: rot | C16: CV 566 | D16: 1 | E16: CV 567 | F16: 148 | G16: =F16+256*D16 -> 404 | H16: CV 568 | I16: 153 | J16: 3HS 40 | K16: Kopfbhf Ladegleis 3 | L16: Halt | M16: links minus
A17: A7 | B17: grün | C17: CV 569 | E17: CV 570 | G17: 405 | H17: CV 571 | K17: Ausfahrt Hauptstrecke | L17: Frei | M17: links plus
A18: A8 | B18: gelb | C18: CV 572 | E18: CV 573 | H18: CV 574 | L18: Frei mit 40 | M18: rechts minus
A19: A9 | B19: rot | C19: CV 575 | D19: 1 | E19: CV 576 | F19: 150 | G19: =F19+256*D19 -> 406 | H19: CV 577 | I19: 153 | J19: 3HS 40 | K19: Kopfbhf Umgehungsgleis 4 | L19: Halt
A20: A10 | B20: grün | C20: CV 578 | E20: CV 579 | G20: 407 | H20: CV 580 | K20: Ausfahrt Hauptstrecke | L20: Frei
A21: A11 | B21: gelb | C21: CV 581 | E21: CV 582 | H21: CV 583 | L21: Frei mit 40
A22: A12 | B22: rot | C22: CV 584 | D22: 1 | E22: CV 485 | F22: 152 | G22: =F22+256*D22 -> 408 | H22: CV 586 | I22: 153 | J22: 3HS 40 | K22: Kopfbhf Personengleis 2 | L22: Halt
A23: A13 | B23: grün | C23: CV 587 | E23: CV 588 | G23: 409 | H23: CV 589 | K23: Ausfahrt Hauptstrecke | L23: Frei
A24: A14 | B24: gelb | C24: CV 590 | E24: CV 591 | H24: CV 592 | L24: Frei mit 40
A25: A15 | B25: frei | G25: 410 | J25: Reserve
A27: QDECODER Nr | B27: LSD-02
A28: Ausgang | B28: Farbe | C28: MSB | D28: Wert | E28: LSB | F28: Wert | G28: Adresse | H28: Mode | I28: Mode | J28: Signal | K28: Standort | L28: Begriff | M28: schalten mit
A29: A0 | B29: rot | C29: CV 9 | D29: 1 | E29: CV 1 | F29: 155 | G29: =F29+256*D29 -> 411 | H29: CV 550 | I29: 153 | J29: 3HS 40 | K29: Kopfbhf Personengleis 1 | L29: Halt
A30: A1 | B30: grün | C30: CV 551 | E30: CV 552 | G30: 412 | H30: CV 553 | K30: Ausfahrt Hauptstrecke | L30: Frei
A31: A2 | B31: gelb | C31: CV 554 | D31: 1 | E31: CV 555 | H31: CV 556 | L31: Frei mit 40
A32: A3 | C32: CV 557 | E32: CV 558 | H32: CV 559
A33: A4 | C33: CV 560 | D33: 1 | E33: CV 561 | H33: CV 562
A34: A5 | C34: CV 563 | E34: CV 564 | H34: CV 565
A35: A6 | C35: CV 566 | D35: 1 | E35: CV 567 | H35: CV 568
A36: A7 | C36: CV 569 | E36: CV 570 | H36: CV 571
A37: A8 | C37: CV 572 | E37: CV 573 | H37: CV 574
A38: A9 | C38: CV 575 | D38: 1 | E38: CV 576 | H38: CV 577
A39: A10 | C39: CV 578 | E39: CV 579 | H39: CV 580
A40: A11 | C40: CV 581 | E40: CV 582 | H40: CV 583
A41: A12 | C41: CV 584 | D41: 1 | E41: CV 485 | H41: CV 586
A42: A13 | C42: CV 587 | E42: CV 588 | H42: CV 589
A43: A14 | C43: CV 590 | E43: CV 591 | H43: CV 592
A44: A15

Sheet Licht-Decoder
A1: LICHT-DECODER | B1: LD
A2: Signalbelegung der CV1
A3: Beleuchtungsschaltkreise | B3: =Decoderbelegung!C8 -> 95 | C3: CV1 von | D3: =Decoderbelegung!D11 -> 600 | E3: bis | F3: =Decoderbelegung!E11 -> 700 | G3: bei 16 Schaltkreisen je Decoder
C4: start mit | D4: =D3-D19*256 -> 344
A5: MSB | B5: Höherwertige Bit | D5: CV1 ist erste Zubehöradresse zur identifikation des Decoders
A6: LSB | B6: Niedrigerwertige Bit
A8: Beleuchtung-Komponenten
A9: Typ | B9: LED-Best-Nr | C9: Widerstand | D9: Lichtfarbe | E9: Helligkeit | F9: Einsatz | J9: Polung LED
A10: 1 | B10: Krois | C10: 3,3 kOhm | D10: warmweiss | J10: grüne Markierung = MINUS | L10: plus = gelb, minus = rot, auf A9
A11: 2 | B11: Krois | C11: 2,7 kOhm | D11: warmweiss | J11: grüne Markierung = MINUS | L11: plus = rot, minus = blau, auf A10
A12: 3 | B12: Krois | C12: 3,3 kOhm | D12: warmweiss | J12: grüne Markierung = MINUS | L12: PLUS =blau, MINUS = Widerstand 3,3 k auf A11
A13: 4 | B13: 156304 | C13: 3,3 kOhm | D13: kaltweiss | J13: grüne Markierung = MINUS | L13: PLUS =blau, MINUS = Widerstand 3,3 k auf A12
A14: 5 | B14: 156313 | C14: 3,3 kOhm | D14: kaltweiss | J14: grüne Markierung = MINUS | L14: PLUS =orange, MINUS = Widerstand 3,3 k auf A13
A15: 6 | B15: 156296 | C15: 3,3 kOhm | D15: kaltweiss | J15: schwarze Markierung = MINUS | L15: PLUS =orange, MINUS = Widerstand 3,3 k auf A14
A17: QDECODER Nr | B17: LD-01
A18: Ausgang | B18: Farbe | C18: MSB | D18: Wert | E18: LSB | F18: Wert | G18: Adresse | H18: Mode | I18: Mode | J18: Signal | K18: Standort | L18: Begriff | M18: schalten mit
A19: A0 | B19: rot | C19: CV 9 | D19: 1 | E19: CV 1 | F19: 344 | G19: =F19+256*D19 -> 600 | H19: CV 550 | I19: 2 | J19: Strassenbeleuchtung Kopfbahnhof | K19: Kopfbhf - Ausziehgleis | L19: Halt
A20: A1 | B20: grün | C20: CV 551 | E20: CV 552 | H20: CV 553 | L20: Fahrt
A21: A2 | B21: rot | C21: CV 554 | D21: 1 | E21: CV 555 | F21: 145 | G21: =F21+256*D21 -> 401 | H21: CV 556 | I21: 2 | J21: Verschubsignal | K21: Kopfbhf - Ladegleis | L21: Halt
A22: A3 | B22: grün | C22: CV 557 | E22: CV 558 | H22: CV 559 | L22: Fahrt
A23: A4 | B23: rot | C23: CV 560 | D23: 1 | E23: CV 561 | F23: 146 | G23: =F23+256*D23 -> 402 | H23: CV 562 | I23: 2 | J23: Verschubsignal | K23: Kopfbhf - Umfahrungsgleis | L23: Halt
A24: A5 | B24: grün | C24: CV 563 | E24: CV 564 | H24: CV 565 | L24: Fahrt
A25: A6 | B25: rot | C25: CV 566 | D25: 1 | E25: CV 567 | F25: 148 | G25: =F25+256*D25 -> 404 | H25: CV 568 | I25: 153 | J25: 3HS 40 | K25: Kopfbhf Ladegleis 3 | L25: Halt | M25: links minus
A26: A7 | B26: grün | C26: CV 569 | E26: CV 570 | G26: 405 | H26: CV 571 | K26: Ausfahrt Hauptstrecke | L26: Frei | M26: links plus
A27: A8 | B27: gelb | C27: CV 572 | E27: CV 573 | H27: CV 574 | L27: Frei mit 40 | M27: rechts minus
A28: A9 | B28: rot | C28: CV 575 | D28: 1 | E28: CV 576 | F28: 150 | G28: =F28+256*D28 -> 406 | H28: CV 577 | I28: 153 | J28: 3HS 40 | K28: Kopfbhf Umgehungsgleis 4 | L28: Halt
A29: A10 | B29: grün | C29: CV 578 | E29: CV 579 | G29: 407 | H29: CV 580 | K29: Ausfahrt Hauptstrecke | L29: Frei
A30: A11 | B30: gelb | C30: CV 581 | E30: CV 582 | H30: CV 583 | L30: Frei mit 40
A31: A12 | B31: rot | C31: CV 584 | D31: 1 | E31: CV 485 | F31: 152 | G31: =F31+256*D31 -> 408 | H31: CV 586 | I31: 153 | J31: 3HS 40 | K31: Kopfbhf Personengleis 2 | L31: Halt
A32: A13 | B32: grün | C32: CV 587 | E32: CV 588 | G32: 409 | H32: CV 589 | K32: Ausfahrt Hauptstrecke | L32: Frei
A33: A14 | B33: gelb | C33: CV 590 | E33: CV 591 | H33: CV 592 | L33: Frei mit 40
A34: A15 | B34: frei | G34: 410 | J34: Reserve
A36: QDECODER Nr | B36: LSD-02
A37: Ausgang | B37: Farbe | C37: MSB | D37: Wert | E37: LSB | F37: Wert | G37: Adresse | H37: Mode | I37: Mode | J37: Signal | K37: Standort | L37: Begriff | M37: schalten mit
A38: A0 | B38: rot | C38: CV 9 | D38: 1 | E38: CV 1 | F38: 155 | G38: =F38+256*D38 -> 411 | H38: CV 550 | I38: 153 | J38: 3HS 40 | K38: Kopfbhf Personengleis 1 | L38: Halt
A39: A1 | B39: grün | C39: CV 551 | E39: CV 552 | G39: 412 | H39: CV 553 | K39: Ausfahrt Hauptstrecke | L39: Frei
A40: A2 | B40: gelb | C40: CV 554 | D40: 1 | E40: CV 555 | H40: CV 556 | L40: Frei mit 40
A41: A3 | C41: CV 557 | E41: CV 558 | H41: CV 559
A42: A4 | C42: CV 560 | D42: 1 | E42: CV 561 | H42: CV 562
A43: A5 | C43: CV 563 | E43: CV 564 | H43: CV 565
A44: A6 | C44: CV 566 | D44: 1 | E44: CV 567 | H44: CV 568
A45: A7 | C45: CV 569 | E45: CV 570 | H45: CV 571
A46: A8 | C46: CV 572 | E46: CV 573 | H46: CV 574
A47: A9 | C47: CV 575 | D47: 1 | E47: CV 576 | H47: CV 577
A48: A10 | C48: CV 578 | E48: CV 579 | H48: CV 580
A49: A11 | C49: CV 581 | E49: CV 582 | H49: CV 583
A50: A12 | C50: CV 584 | D50: 1 | E50: CV 485 | H50: CV 586
A51: A13 | C51: CV 587 | E51: CV 588 | H51: CV 589
A52: A14 | C52: CV 590 | E52: CV 591 | H52: CV 592
A53: A15

Sheet Einstellung Zugsfahrten
A1: Aktuelle TC-Datei | B1: 45 C-14
A3: Menü | B3: Einstellungen | D3: Kommentare, Fragen
A4: Block | B4: Zugsverfolgung | C4: 1 | D4: eingeschaltet
B5: Blöcke per Zugsverfolgung freigeben | C5: 1
B6: Blöcke per Belegtmelder freigeben | C6: 0
A8: Zugsfahrten
A9: Auto-Train-Regeln
A10: Auto-Train | B10: Belegte Abschnitte einschliessen | C10: 0 | D10: steht ein Zug im SBHF und wird nicht gefahren, heisst es endlos warten bis zur Freigabe. Bei "1" wird wohl die Zugsfolge dichter, bei einem Nadelöhr ist jedoch aus. Es können mehrere alternative Strecken, z.B. Gleise in einem Bahnhof, angegeben werden.
B11: Reservierte Abschnitte einschliessen | C11: 1 | D11: sonst wird ein Weg erst gefunden, wenn die aktuelle Zugsfahrt bendet ist und alle reservierten Blöcke freigegeben werden
B12: Gesperrte Blöcke einschliessen | C12: 0 | D12: hab keine
B13: Eingeshränkte Abschnitte einschliessen | C13: 0 | D13: hab keine
A14: Start | B14: Nur in Startblöcken losfahren | C14: 1 | D14: Sonst fahren andere Loks in beleten Abschnitten los...
B15: Zugfahrt ausführen, auch wenn Zug nicht gleich losfahren kann | C15: 1 | D15: ist notwendig, wenn mehrere Zugsfahrte gleichzeitig gestartet werden, aber "abgearbeitet" werden müssen
B16: Startverzögerung | C16: 1 | D16: 1 sec
B17: Ältesten Zug starten | C17: 1
B18: Züge dürfen nur in aktueller Fahrtrichtung starten | C18: 1 | D18: Verhindert "Retourfahrten"
B19: Züge dürfen nur vorwärts starten | C19: 0
B20: Züge dürfen nur rückwärts starten | C20: 0
A21: Reservierung von Blöcken und Weichenstrassen
A22: Belegte Blöcke und Weichenstrassen | B22: Einfahrt in belegte Blöcke | C22: 0 | D22: erst im Rangierbetrieb notwendig?
B23: Einfahrt in belegte Weichenstrassen | C23: 0 | D23: lieber nicht, besser ist, die Zeitverzögerung abzuwarten
B24: Resevierung belegter Blöcke zulassen | C24: 0 | D24: besser nicht. Wenn Züge in Abstellgleisen stehen, beginnt sonst eine lange Warteschleife
B25: Resevierung belegter Weichenstrassen zulassen | C25: 1 | D25: dringend zu empfehlen, Weichenstrassen werden ja wieder frei.
B26: Wähle Weichenstrassen mit wenigsten Weichen | C26: 0
B27: Ältesten Block oder Weichenstrasse wählen | C27: 1
A28: Vorschau | B28: Intelligente Vorschau | C28: 0
B29: Vorschau | C29: 1 | D29: Reservierung je 1 Block im Voraus
A30: Freigabe von Blöcken und Weichenstrassen
A31: Zeitpunkt der Freigabe | B31: An der Haltemarkierung nächster Block | C31: 0
B32: Intelligent | C32: 0
B33: Durch Belegtmelder | C33: 1
B34: Zielblock freigeben | C34: 0
B35: Zuvor aktive Weichenstrasse geschaltet lassen | C35: 0
B36: Keine Zwangsfreigabe von Blöcken und Weichenstrassen | C36: 0
A37: Längensteuerung | B37: Züge müssen in Zielblock passen | C37: 1
B38: Kürzesten Zielblock suchen | C38: 1
B39: Kein Halt in zu kurzen Blöcken | C39: 1
B40: Keine Freigabe unter überlangen Zügen | C40: 1
A41: Zugverband | B41: Einfahrt in reservierte Zielblöcke zum Ankoppeln erlaubt | C41: 0
B42: Start ohne Lok | C42: 0
A43: Sicherheit | B43: Watchdog | C43: 0
B44: Schutz gegen Falschfahrt | C44: 1
A45: Sonstige | B45: kritische Abschnitte gemeinsam benutzen | C45: 0
B46: Halt vorsehen | C46: 0

Sheet Fehlermedlungen
A1: Datum | B1: TC-Datei | C1: Zug | D1: Block | E1: Weiche | F1: Fehler | G1: Ursache | H1: Behebung | I1: Datum
A2: 41628 | B2: 54-B17 | C2: 08 ÖBB 1020 | E2: 298 Kehre aussen hinten | F2: Zugfalschfahrt | G2: Servo hängt | H2: Servo angestossen | I2: 41628
A3: 41628 | B3: 54-B17 | C3: 26 ICE 3 | D3: Hochstrecke links inen | F3: Zugfahrt gestoppt | G3: Block voraus belegt, 1 cm zu weit gefahren | H3: Bremsrampe um 2 cm kürzen
A4: 41628 | B4: 54-B17 | C4: 22 Herkules 2 | D4: Kehre links innen | F4: Zugfahrt gestoppt | G4: ?? | H4: Zugfahrt beu gestartet | I4: 41628
A5: 41628 | B5: 54-B17 | C5: 26 ICE 3 | D5: HBHF Gleis 2 | F5: Weichenfeld hinter Zug blockert | G5: Zug länger als Bahnsteig
A6: 41628 | B6: 54-B17 | C6: 15 BR 03 | D6: HBHF Gleis 1 | F6: Zug ragt in hinteres Weichenfeld | G6: Stoppt mitten in Gleis 1, von rechts kommend
A7: 41628 | B7: 54-B17 | C7: 26 ICE 3 | D7: HBHF Gleis 2 | F7: Nachfolgezug fährt auf | G7: Zug länger als Bahnsteig
A9: 42367 | B9: 58-A07 | C9: Taurus1-04 | D9: Kehre aussen rechts hinten | F9: Rote Waggons entgleist | G9: Waggons zu leicht nach Abbau wegen Elektroerneuerung | H9: Steine wieder eingeladen | I9: 42367
A10: 42367 | B10: 58-A07 | C10: Herkules 2-22 | E10: 239 SBHF 3 | F10: Nicht geschaltet | G10: Servo festgefahren, ohne Kontakt
A11: 42367 | B11: 58-A07 | C11: Talent 3, vorwärts | D11: HBHF Gleis 2 | E11: 279 | F11: Zug zu weit gefahren | G11: Bremsrampe zu lange oder zug zu langsam bei Bremsen | H11: Bremsrampe verkürzt, Haltepunkt näher zu Beginn Belegtabschnitt gelegt
A12: 42367 | B12: 58-A07 | C12: Krokodil grün | F12: Zugverfolgung nicht weitergeführt, letzter Block reserviert, ohne Belegtmeldung: Kehrschleife, vorne rechts, Letzter Block ohne Auflösung der Belegtmeldung: Kehre links aussen | G12: Rückmeldeproblem, Rückmelder melden nicht "frei"
A13: 42367 | B13: 58-A07 | C13: Talent 3 Vorwärts | F13: 1. Achse löst belegtmelder nicht aus, | G13: kein oder nur unsicherer Kontakt | H13: Elektrik verbessern 1. Achse leitend umbauen. wie ist noch fraglich
A14: 42367 | B14: 58-A08 | F14: Zugfolge nicht weitergeführt, fast Frontalzusammenstoss
